BEGIN:VCALENDAR
VERSION:2.0
PRODID:-//Däreldéieren Bridel - ECPv5.6.0//NONSGML v1.0//EN
CALSCALE:GREGORIAN
METHOD:PUBLISH
X-WR-CALNAME:Däreldéieren Bridel
X-ORIGINAL-URL:https://www.daereldeieren.lu
X-WR-CALDESC:Events for Däreldéieren Bridel
BEGIN:VTIMEZONE
TZID:Europe/Luxembourg
BEGIN:DAYLIGHT
TZOFFSETFROM:+0100
TZOFFSETTO:+0200
TZNAME:CEST
DTSTART:20200329T010000
END:DAYLIGHT
BEGIN:STANDARD
TZOFFSETFROM:+0200
TZOFFSETTO:+0100
TZNAME:CET
DTSTART:20201025T010000
END:STANDARD
END:VTIMEZONE
BEGIN:VEVENT
DTSTART;TZID=Europe/Luxembourg:20201114T100000
DTEND;TZID=Europe/Luxembourg:20201114T120000
DTSTAMP:20210722T182920
CREATED:20201108T181702Z
LAST-MODIFIED:20201108T181706Z
UID:1781-1605348000-1605355200@www.daereldeieren.lu
SUMMARY:Check-in : Versammlung
DESCRIPTION:Léif Elteren\,Wéinst den neien Regelen vum Ministère sin mir obligéiert\, manner Kanner beienén z’encadréieren. Dofier mussen mir iech mattdéhlen\, dass d’Beaver hier Versammlung moies vun 10-12 Auer hun (an net méi vun 14-16 Auer). Aus organisatoreschen Grënn\, musst dier ärt Kannd all Woch bis mettwochs spéidestens fir di nächst Versammlung ob eisem Site unmellen. Daat héscht\, dass dier eis bis spéidestens Mettwochs musst soen\, ob ärt Kannd Samstes an d’Versammlung kennt. An daat all Woch. Et déht eis léd\, dass mir iech domatt ploen mussen\, mé leider hun mer keng aner Wiel. Mir zielen ob ärt Verstésdemech. \n\n\n\n\n\n\n\nChers parents\, En raison des nouvelles règles du ministère\, nous sommes obligés d’accueilir moins d’enfants d’un coup.La réunion des beavers aura lieu de 10h à 12h (et non plus de 14h à 16h). Pour des raisons d’organisation\, si votre enfant vient à la réunion\, vous devez l’inscrire toutes les semaines sur notre site web au plus tard le mercredi avant la réunion.Par exemple\, vous devez inscrire votre enfant le mercredi 11 novembre au plus tard pour la réunion du samedi 14 novembre. Et ce toutes les semaines.Nous sommes désolés de devoir vous ennuyer avec cela\, mais malheureusement nous n’avons pas d’autre choix.Nous comptons sur votre compréhension. \n\n\n\n\n\n\n\nDear Parents\,Due to the new rules of the ministry\, we are obliged to supervise fewer children than before. Therefore\, we must inform you that the beavers will have their meeting from 10-12 am in the morning (and no longer from 2-4pm).For organizational reasons\, you have to register your child for the next meeting on our website every week until Wednesday at the latest.For example\, this means that you have to tell us by no later than Wednesday 11th November whether your child will attend the meeting on Saturday 14th November. And that every week. We are sorry we have to annoy you with this\, but unfortunately we have no other choice.We are counting on your understanding.
URL:https://www.daereldeieren.lu/agenda/check-in-versammlung/2020-11-14/
LOCATION:Home Däreldéieren\, 11\, rue du Tilleul\, Bridel\, 8158\, Luxembourg
CATEGORIES:Beaver,Versammlung
GEO:49.66243;6.08048
X-APPLE-STRUCTURED-LOCATION;VALUE=URI;X-ADDRESS=Home Däreldéieren 11 rue du Tilleul Bridel 8158 Luxembourg;X-APPLE-RADIUS=500;X-TITLE=11\, rue du Tilleul:geo:6.08048,49.66243
END:VEVENT
BEGIN:VEVENT
DTSTART;TZID=Europe/Luxembourg:20201114T140000
DTEND;TZID=Europe/Luxembourg:20201114T160000
DTSTAMP:20210722T182920
CREATED:20200828T165727Z
LAST-MODIFIED:20201108T184256Z
UID:1808-1605362400-1605369600@www.daereldeieren.lu
SUMMARY:Check-in : Versammlung
DESCRIPTION:Léif Elteren\,Wéinst den neien Regelen vum Ministère sin mir obligéiert\, manner Kanner beienén z’encadréieren. Aus organisatoreschen Grënn\, musst dier ärt Kannd all Woch bis mettwochs spéidestens fir di nächst Versammlung ob eisem Site unmellen. Daat héscht\, dass dier eis bis spéidestens Mettwochs musst soen\, ob ärt Kannd Samstes an d’Versammlung kennt. An daat all Woch. Et déht eis léd\, dass mir iech domatt ploen mussen\, mé leider hun mer keng aner Wiel. Mir zielen ob ärt Verstésdemech. \n\n\n\n\n\n\n\nChers parents\, En raison des nouvelles règles du ministère\, nous sommes obligés d’accueilir moins d’enfants d’un coup.Pour des raisons d’organisation\, si votre enfant vient à la réunion\, vous devez l’inscrire toutes les semaines sur notre site web au plus tard le mercredi avant la réunion.Par exemple\, vous devez inscrire votre enfant le mercredi 11 novembre au plus tard pour la réunion du samedi 14 novembre. Et ce toutes les semaines.Nous sommes désolés de devoir vous ennuyer avec cela\, mais malheureusement nous n’avons pas d’autre choix.Nous comptons sur votre compréhension. \n\n\n\n\n\n\n\nDear Parents\,Due to the new rules of the ministry\, we are obliged to supervise fewer children than before. For organizational reasons\, you have to register your child for the next meeting on our website every week until Wednesday at the latest.For example\, this means that you have to tell us by no later than Wednesday 11th November whether your child will attend the meeting on Saturday 14th November. And that every week. We are sorry we have to annoy you with this\, but unfortunately we have no other choice.We are counting on your understanding.
URL:https://www.daereldeieren.lu/agenda/versammlung-3-2020-11-14/
LOCATION:Home Däreldéieren\, 11\, rue du Tilleul\, Bridel\, 8158\, Luxembourg
CATEGORIES:Versammlung,Wëllefcher
GEO:49.66243;6.08048
X-APPLE-STRUCTURED-LOCATION;VALUE=URI;X-ADDRESS=Home Däreldéieren 11 rue du Tilleul Bridel 8158 Luxembourg;X-APPLE-RADIUS=500;X-TITLE=11\, rue du Tilleul:geo:6.08048,49.66243
END:VEVENT
BEGIN:VEVENT
DTSTART;TZID=Europe/Luxembourg:20201114T160000
DTEND;TZID=Europe/Luxembourg:20201114T180000
DTSTAMP:20210722T182920
CREATED:20200828T170519Z
LAST-MODIFIED:20201023T175113Z
UID:1323-1605369600-1605376800@www.daereldeieren.lu
SUMMARY:Versammlung
DESCRIPTION:
URL:https://www.daereldeieren.lu/agenda/versammlung-11/2020-11-14/
LOCATION:Home Däreldéieren\, 11\, rue du Tilleul\, Bridel\, 8158\, Luxembourg
CATEGORIES:Scouten,Versammlung
GEO:49.66243;6.08048
X-APPLE-STRUCTURED-LOCATION;VALUE=URI;X-ADDRESS=Home Däreldéieren 11 rue du Tilleul Bridel 8158 Luxembourg;X-APPLE-RADIUS=500;X-TITLE=11\, rue du Tilleul:geo:6.08048,49.66243
END:VEVENT
END:VCALENDAR