BEGIN:VCALENDAR
VERSION:2.0
PRODID:-//Däreldéieren Bridel - ECPv5.9.1//NONSGML v1.0//EN
CALSCALE:GREGORIAN
METHOD:PUBLISH
X-WR-CALNAME:Däreldéieren Bridel
X-ORIGINAL-URL:https://www.daereldeieren.lu
X-WR-CALDESC:Events for Däreldéieren Bridel
BEGIN:VTIMEZONE
TZID:Europe/Luxembourg
BEGIN:DAYLIGHT
TZOFFSETFROM:+0100
TZOFFSETTO:+0200
TZNAME:CEST
DTSTART:20210328T010000
END:DAYLIGHT
BEGIN:STANDARD
TZOFFSETFROM:+0200
TZOFFSETTO:+0100
TZNAME:CET
DTSTART:20211031T010000
END:STANDARD
END:VTIMEZONE
BEGIN:VEVENT
DTSTART;TZID=Europe/Luxembourg:20211016T100000
DTEND;TZID=Europe/Luxembourg:20211017T110000
DTSTAMP:20211007T082200
CREATED:20211002T115023Z
LAST-MODIFIED:20211003T201900Z
UID:2590-1634378400-1634468400@www.daereldeieren.lu
SUMMARY:Montée 2021 Scouten
DESCRIPTION:Léiw Scouten\, léif “grouss” Wëllef\, \n\n\n\nMir hunn schonns Hierscht. D’Joer ass scho bal nees erëm. Net nëmme bliedert all Dag e Blat vumKalenner of wéi am Blëtz\, mee och dir gitt grouss. An dofir ass et vum 16.10.2021 um 10h00bis den 17.10.2021 um 11h00 un der Zäit\, an enger Welt voller spannender Abenteuer umBriddel beim Home Lucien Wercollier\, d’Lieder an déi néi Branche eropzeklammen.Kommt elo mat a mellt iech bis den 13. Oktober fir d’Montée via Site un. \n\n\n\nWat dir braucht :Wiessel Kleeder\, waarm Kleeder\, eventuell eng Reenjackett\, eng Mutz\, fest Biergschong\,ee Buedduch\, eng Wäschtrousse (Zännbiischt\, Zahnpasta\, Seef\, etc.)\, Schlofsak (waarm)\,Carrymat\, Gamelle\, Couvert\, Kichenduch\, Becher\, Bidon\, TäscheluuchtMir freeën eisop iech ! \n\n\n\nLénks Patt\,Är Cheffen
URL:https://www.daereldeieren.lu/agenda/montee-2/
LOCATION:Home Däreldéieren\, 11\, rue du Tilleul\, Bridel\, 8158\, Luxembourg
CATEGORIES:Activité,Scouten,Weekend
GEO:49.66243;6.08048
X-APPLE-STRUCTURED-LOCATION;VALUE=URI;X-ADDRESS=Home Däreldéieren 11 rue du Tilleul Bridel 8158 Luxembourg;X-APPLE-RADIUS=500;X-TITLE=11\, rue du Tilleul:geo:6.08048,49.66243
END:VEVENT
BEGIN:VEVENT
DTSTART;TZID=Europe/Luxembourg:20211016T100000
DTEND;TZID=Europe/Luxembourg:20211017T110000
DTSTAMP:20211007T082200
CREATED:20211003T201353Z
LAST-MODIFIED:20211003T201843Z
UID:2604-1634378400-1634468400@www.daereldeieren.lu
SUMMARY:Montée 2021 Wëllefcher
DESCRIPTION:
URL:https://www.daereldeieren.lu/agenda/montee-wellefcher/
LOCATION:Home Däreldéieren\, 11\, rue du Tilleul\, Bridel\, 8158\, Luxembourg
CATEGORIES:Activité,Weekend,Wëllefcher
GEO:49.66243;6.08048
X-APPLE-STRUCTURED-LOCATION;VALUE=URI;X-ADDRESS=Home Däreldéieren 11 rue du Tilleul Bridel 8158 Luxembourg;X-APPLE-RADIUS=500;X-TITLE=11\, rue du Tilleul:geo:6.08048,49.66243
END:VEVENT
BEGIN:VEVENT
DTSTART;TZID=Europe/Luxembourg:20211016T100000
DTEND;TZID=Europe/Luxembourg:20211017T110000
DTSTAMP:20211007T082200
CREATED:20211003T201729Z
LAST-MODIFIED:20211003T212319Z
UID:2608-1634378400-1634468400@www.daereldeieren.lu
SUMMARY:Montée 2021 grouss Beaver
DESCRIPTION:
URL:https://www.daereldeieren.lu/agenda/montee-2021-grouss-beaver/
LOCATION:Home Däreldéieren\, 11\, rue du Tilleul\, Bridel\, 8158\, Luxembourg
CATEGORIES:Activité,Beaver,Weekend
GEO:49.66243;6.08048
X-APPLE-STRUCTURED-LOCATION;VALUE=URI;X-ADDRESS=Home Däreldéieren 11 rue du Tilleul Bridel 8158 Luxembourg;X-APPLE-RADIUS=500;X-TITLE=11\, rue du Tilleul:geo:6.08048,49.66243
END:VEVENT
END:VCALENDAR