BEGIN:VCALENDAR
VERSION:2.0
PRODID:-//Däreldéieren Bridel - ECPv5.9.1//NONSGML v1.0//EN
CALSCALE:GREGORIAN
METHOD:PUBLISH
X-WR-CALNAME:Däreldéieren Bridel
X-ORIGINAL-URL:https://www.daereldeieren.lu
X-WR-CALDESC:Events for Däreldéieren Bridel
BEGIN:VTIMEZONE
TZID:Europe/Luxembourg
BEGIN:DAYLIGHT
TZOFFSETFROM:+0100
TZOFFSETTO:+0200
TZNAME:CEST
DTSTART:20210328T010000
END:DAYLIGHT
BEGIN:STANDARD
TZOFFSETFROM:+0200
TZOFFSETTO:+0100
TZNAME:CET
DTSTART:20211031T010000
END:STANDARD
END:VTIMEZONE
BEGIN:VEVENT
DTSTART;TZID=Europe/Luxembourg:20211120T140000
DTEND;TZID=Europe/Luxembourg:20211120T160000
DTSTAMP:20211009T000920
CREATED:20211002T104929Z
LAST-MODIFIED:20211002T104929Z
UID:2550-1637416800-1637424000@www.daereldeieren.lu
SUMMARY:Versammlung
DESCRIPTION:
URL:https://www.daereldeieren.lu/agenda/versammlung-14/2021-11-20/
CATEGORIES:Activité,Beaver,Versammlung,Wëllefcher
END:VEVENT
END:VCALENDAR