BEGIN:VCALENDAR
VERSION:2.0
PRODID:-//Däreldéieren Bridel - ECPv5.9.1//NONSGML v1.0//EN
CALSCALE:GREGORIAN
METHOD:PUBLISH
X-WR-CALNAME:Däreldéieren Bridel
X-ORIGINAL-URL:https://www.daereldeieren.lu
X-WR-CALDESC:Events for Däreldéieren Bridel
BEGIN:VTIMEZONE
TZID:Europe/Luxembourg
BEGIN:DAYLIGHT
TZOFFSETFROM:+0100
TZOFFSETTO:+0200
TZNAME:CEST
DTSTART:20210328T010000
END:DAYLIGHT
BEGIN:STANDARD
TZOFFSETFROM:+0200
TZOFFSETTO:+0100
TZNAME:CET
DTSTART:20211031T010000
END:STANDARD
END:VTIMEZONE
BEGIN:VEVENT
DTSTART;TZID=Europe/Luxembourg:20211023T160000
DTEND;TZID=Europe/Luxembourg:20211023T180000
DTSTAMP:20211008T141206
CREATED:20211002T114215Z
LAST-MODIFIED:20211002T114215Z
UID:2572-1635004800-1635012000@www.daereldeieren.lu
SUMMARY:Versammlung
DESCRIPTION:
URL:https://www.daereldeieren.lu/agenda/versammlung-20/2021-10-23/
CATEGORIES:Scouten,Versammlung
END:VEVENT
END:VCALENDAR