BEGIN:VCALENDAR
VERSION:2.0
PRODID:-//Däreldéieren Bridel - ECPv5.9.1//NONSGML v1.0//EN
CALSCALE:GREGORIAN
METHOD:PUBLISH
X-WR-CALNAME:Däreldéieren Bridel
X-ORIGINAL-URL:https://www.daereldeieren.lu
X-WR-CALDESC:Events for Däreldéieren Bridel
BEGIN:VTIMEZONE
TZID:Europe/Luxembourg
BEGIN:DAYLIGHT
TZOFFSETFROM:+0100
TZOFFSETTO:+0200
TZNAME:CEST
DTSTART:20210328T010000
END:DAYLIGHT
BEGIN:STANDARD
TZOFFSETFROM:+0200
TZOFFSETTO:+0100
TZNAME:CET
DTSTART:20211031T010000
END:STANDARD
END:VTIMEZONE
BEGIN:VEVENT
DTSTART;TZID=Europe/Luxembourg:20210622T170000
DTEND;TZID=Europe/Luxembourg:20210622T220000
DTSTAMP:20211007T072620
CREATED:20210406T211845Z
LAST-MODIFIED:20210406T211846Z
UID:2306-1624381200-1624399200@www.daereldeieren.lu
SUMMARY:Virowend Nationalfeierdag
DESCRIPTION:
URL:https://www.daereldeieren.lu/agenda/virowend-nationalfeierdag/
LOCATION:Home Däreldéieren\, 11\, rue du Tilleul\, Bridel\, 8158\, Luxembourg
CATEGORIES:Activité,Beaver,Cheffen,Explorer,Rover,Scouten,Wëllefcher
GEO:49.66243;6.08048
X-APPLE-STRUCTURED-LOCATION;VALUE=URI;X-ADDRESS=Home Däreldéieren 11 rue du Tilleul Bridel 8158 Luxembourg;X-APPLE-RADIUS=500;X-TITLE=11\, rue du Tilleul:geo:6.08048,49.66243
END:VEVENT
END:VCALENDAR